BEGIN:VCALENDAR
VERSION:2.0
PRODID:-//WIR network Graubünden-Südostschweiz//NONSGML kigkonsult.se iCalc
 reator 2.16.12//
METHOD:PUBLISH
X-MS-OLK-FORCEINSPECTOROPEN:TRUE
BEGIN:VEVENT
UID:20260421T101534CEST-0030cJj1zg@WIR network Graubünden-Südostschweiz
DTSTAMP:20260421T081534Z
DESCRIPTION:\n\n‌\n\n \n\n\n‌\n\n28. Generalversammlung 2024\n\n\n	Ort:     
           Swiss Heidi Hotel\, Maienfeld\n	Datum/Zeit:  11. April.2024 17.00
  Uhr\n\n \nAnträge sind schriftlich bis 10 Tage vor der Generalversammlung
  dem Präsidenten einzureichen.Anmeldung für Mitglieder:\n\nAnmeldeschluss:
  31. März 2024\n\nTraktanden:\n \n\n\n	Begrüssung\n	Wahl der Stimmenzähler\n
 	Genehmigung des Protokolls der 27. Generalversammlung vom 02. Juni 2023 in
  Vattiz\n	Jahresbericht des Präsidenten\n	Jahresrechnung 2023\n	Bericht des R
 echnungsrevisors und Décharge-Erteilung\n	Budget 2024\n	Abstimmung über Budg
 et 2024\n	Erneuerungswahlen Vorstand und Rechnungsrevisor\n	Veranstaltungska
 lender 2024\n	Jahresbeiträge Mitglieder 2024\n	Anträge\n	Allgemeine Umfrage\n
 \n \n\n \n\n \n
DTSTART:20240411T170000
DTEND:20240411T220000
LOCATION:Swiss Heidi Hotel
ORGANIZER:MAILTO:WIR network Graubünden-Südostschweiz <info@wirnetwork-gr.c
 h>
SUMMARY:28. Generalversammlung 2024
END:VEVENT
END:VCALENDAR
